BEGIN:VCALENDAR
VERSION:2.0
PRODID:-//Eventin//Event Calendar//EN
CALSCALE:GREGORIAN
METHOD:PUBLISH
BEGIN:VEVENT
UID:83f607103ae6c79a864f3011d7b76ba6@flamencofromspain.com
SUMMARY:CHIPPENHAM
DESCRIPTION:
LOCATION:St Paul's Church\, Malmesbury Rd\, Chippenham\, SN15 1PS
DTSTAMP:20260421T105157Z
DTSTART:20260614T050000Z
DTEND:20260614T183000Z
END:VEVENT
END:VCALENDAR
