BEGIN:VCALENDAR
VERSION:2.0
PRODID:-//Eventin//Event Calendar//EN
CALSCALE:GREGORIAN
METHOD:PUBLISH
BEGIN:VEVENT
UID:68d0b6297961297644642a4d75ff53b2@flamencofromspain.com
SUMMARY:WOLVERHAMPTON
DESCRIPTION:
LOCATION:St Peter's Collegiate Church (Anglican) Lich Gates Wolverhampton W
 V1 1TY
DTSTAMP:20260421T105044Z
DTSTART:20260605T050000Z
DTEND:20260605T183000Z
END:VEVENT
END:VCALENDAR
