BEGIN:VCALENDAR
VERSION:2.0
PRODID:-//Eventin//Event Calendar//EN
CALSCALE:GREGORIAN
METHOD:PUBLISH
BEGIN:VEVENT
UID:c1c5ea16ffd3fa2b226e5c7d55685250@flamencofromspain.com
SUMMARY:LONDON
DESCRIPTION:
LOCATION:St Mary's Church\, Acton 1 The Mount\, London\, W3 9NW
DTSTAMP:20260421T111040Z
DTSTART:20260421T120000Z
DTEND:20260421T210000Z
END:VEVENT
END:VCALENDAR
